BEGIN:VCALENDAR
VERSION:2.0
PRODID:-//Hoosier Kiteflier's Society - ECPv6.15.20//NONSGML v1.0//EN
CALSCALE:GREGORIAN
METHOD:PUBLISH
X-WR-CALNAME:Hoosier Kiteflier's Society
X-ORIGINAL-URL:https://hoosierkite.org
X-WR-CALDESC:Events for Hoosier Kiteflier's Society
REFRESH-INTERVAL;VALUE=DURATION:PT1H
X-Robots-Tag:noindex
X-PUBLISHED-TTL:PT1H
BEGIN:VTIMEZONE
TZID:America/Indiana/Indianapolis
BEGIN:DAYLIGHT
TZOFFSETFROM:-0500
TZOFFSETTO:-0400
TZNAME:EDT
DTSTART:20240310T070000
END:DAYLIGHT
BEGIN:STANDARD
TZOFFSETFROM:-0400
TZOFFSETTO:-0500
TZNAME:EST
DTSTART:20241103T060000
END:STANDARD
BEGIN:DAYLIGHT
TZOFFSETFROM:-0500
TZOFFSETTO:-0400
TZNAME:EDT
DTSTART:20250309T070000
END:DAYLIGHT
BEGIN:STANDARD
TZOFFSETFROM:-0400
TZOFFSETTO:-0500
TZNAME:EST
DTSTART:20251102T060000
END:STANDARD
BEGIN:DAYLIGHT
TZOFFSETFROM:-0500
TZOFFSETTO:-0400
TZNAME:EDT
DTSTART:20260308T070000
END:DAYLIGHT
BEGIN:STANDARD
TZOFFSETFROM:-0400
TZOFFSETTO:-0500
TZNAME:EST
DTSTART:20261101T060000
END:STANDARD
END:VTIMEZONE
BEGIN:VEVENT
DTSTART;TZID=America/Indiana/Indianapolis:20250927T100000
DTEND;TZID=America/Indiana/Indianapolis:20250927T160000
DTSTAMP:20260424T002156
CREATED:20250107T033332Z
LAST-MODIFIED:20250917T211654Z
UID:245-1758967200-1758988800@hoosierkite.org
SUMMARY:Merritt Beck Memorial Kite Fly - Muncie
DESCRIPTION:Come celebrate the life and kite making skills of Indiana’s Merritt Beck at one of the best kite-flying fields in the state. \nWe will auction some multicolor ribbon and tube tails made by Merritt Beck. Payment will be by cash or check only! \nWe will be at Academy of Model Aeronautics Flying Site 5 in the northern half of the property\, where we held the Ansel Toney fly in May. See the map below. \n \nAfter the fly\, members whose dues are current will be treated to an off-site meal.
URL:https://hoosierkite.org/event/merritt-beck-memorial-kite-fly-muncie/
LOCATION:Academy of Model Aeronautics\, 5161 E. Memorial Dr.\, Muncie\, IN\, 47302\, United States
CATEGORIES:Official HKS Events
END:VEVENT
END:VCALENDAR