BEGIN:VCALENDAR
VERSION:2.0
PRODID:-//Hoosier Kiteflier's Society - ECPv6.15.20//NONSGML v1.0//EN
CALSCALE:GREGORIAN
METHOD:PUBLISH
X-WR-CALNAME:Hoosier Kiteflier's Society
X-ORIGINAL-URL:https://hoosierkite.org
X-WR-CALDESC:Events for Hoosier Kiteflier's Society
REFRESH-INTERVAL;VALUE=DURATION:PT1H
X-Robots-Tag:noindex
X-PUBLISHED-TTL:PT1H
BEGIN:VTIMEZONE
TZID:America/Indiana/Indianapolis
BEGIN:DAYLIGHT
TZOFFSETFROM:-0500
TZOFFSETTO:-0400
TZNAME:EDT
DTSTART:20240310T070000
END:DAYLIGHT
BEGIN:STANDARD
TZOFFSETFROM:-0400
TZOFFSETTO:-0500
TZNAME:EST
DTSTART:20241103T060000
END:STANDARD
BEGIN:DAYLIGHT
TZOFFSETFROM:-0500
TZOFFSETTO:-0400
TZNAME:EDT
DTSTART:20250309T070000
END:DAYLIGHT
BEGIN:STANDARD
TZOFFSETFROM:-0400
TZOFFSETTO:-0500
TZNAME:EST
DTSTART:20251102T060000
END:STANDARD
BEGIN:DAYLIGHT
TZOFFSETFROM:-0500
TZOFFSETTO:-0400
TZNAME:EDT
DTSTART:20260308T070000
END:DAYLIGHT
BEGIN:STANDARD
TZOFFSETFROM:-0400
TZOFFSETTO:-0500
TZNAME:EST
DTSTART:20261101T060000
END:STANDARD
END:VTIMEZONE
BEGIN:VEVENT
DTSTART;TZID=America/Indiana/Indianapolis:20250510T100000
DTEND;TZID=America/Indiana/Indianapolis:20250510T160000
DTSTAMP:20260424T060019
CREATED:20250107T032233Z
LAST-MODIFIED:20250327T195204Z
UID:243-1746871200-1746892800@hoosierkite.org
SUMMARY:Ansel Toney & Friends Memorial Kite Fly - Muncie
DESCRIPTION:Join HKS members for a fun fly at Flying Site 5 of the sprawling grounds of the AMA in Muncie. \nMember Mike Bragg plans to grill hot dogs for lunch. \nThere will be a silent auction of approximately 25 kites\, including Sun Oak and Into The Wind kites from Bill and Barb Hoagland’s collection. \nCurrent members are invited to stay for an on-site club meeting and catered meal at the conclusion of the fly.
URL:https://hoosierkite.org/event/ansel-toney-friends-memorial-kite-fly-muncie/
LOCATION:Academy of Model Aeronautics\, 5161 E. Memorial Dr.\, Muncie\, IN\, 47302\, United States
CATEGORIES:Official HKS Events
END:VEVENT
END:VCALENDAR