BEGIN:VCALENDAR
VERSION:2.0
PRODID:-//Hoosier Kiteflier's Society - ECPv6.15.20//NONSGML v1.0//EN
CALSCALE:GREGORIAN
METHOD:PUBLISH
X-WR-CALNAME:Hoosier Kiteflier's Society
X-ORIGINAL-URL:https://hoosierkite.org
X-WR-CALDESC:Events for Hoosier Kiteflier's Society
REFRESH-INTERVAL;VALUE=DURATION:PT1H
X-Robots-Tag:noindex
X-PUBLISHED-TTL:PT1H
BEGIN:VTIMEZONE
TZID:America/Indiana/Indianapolis
BEGIN:DAYLIGHT
TZOFFSETFROM:-0500
TZOFFSETTO:-0400
TZNAME:EDT
DTSTART:20230312T070000
END:DAYLIGHT
BEGIN:STANDARD
TZOFFSETFROM:-0400
TZOFFSETTO:-0500
TZNAME:EST
DTSTART:20231105T060000
END:STANDARD
BEGIN:DAYLIGHT
TZOFFSETFROM:-0500
TZOFFSETTO:-0400
TZNAME:EDT
DTSTART:20240310T070000
END:DAYLIGHT
BEGIN:STANDARD
TZOFFSETFROM:-0400
TZOFFSETTO:-0500
TZNAME:EST
DTSTART:20241103T060000
END:STANDARD
BEGIN:DAYLIGHT
TZOFFSETFROM:-0500
TZOFFSETTO:-0400
TZNAME:EDT
DTSTART:20250309T070000
END:DAYLIGHT
BEGIN:STANDARD
TZOFFSETFROM:-0400
TZOFFSETTO:-0500
TZNAME:EST
DTSTART:20251102T060000
END:STANDARD
END:VTIMEZONE
BEGIN:VEVENT
DTSTART;TZID=America/Indiana/Indianapolis:20241013T100000
DTEND;TZID=America/Indiana/Indianapolis:20241013T160000
DTSTAMP:20260424T164206
CREATED:20230312T233801Z
LAST-MODIFIED:20240203T023643Z
UID:41-1728813600-1728835200@hoosierkite.org
SUMMARY:One Sky\, One World Kite Fly - Fort Wayne
DESCRIPTION:Our annual kite fly for world peace at Praise Park\, thanks to St. Joe United Methodist Church. HKS members from around the region will gather to fly a wide variety of kites. Others are welcome to bring their own kites to fly\, with expert assistance from HKS members. \nNote: Although the park’s official address is on St. Joe Center Road\, the entrance drive is from YMCA Park Drive. For best results\, navigate to the Jackson R. Lehman YMCA\, 5680 YMCA Park Drive W. Enter the park on the right just before reaching the YMCA building.
URL:https://hoosierkite.org/event/one-sky-one-world-kite-fly/
LOCATION:Praise Park\, 5685 YMCA Park Drive West\, Fort Wayne\, IN\, 46835-2380\, United States
CATEGORIES:Official HKS Events
END:VEVENT
END:VCALENDAR