BEGIN:VCALENDAR
VERSION:2.0
PRODID:-//Hoosier Kiteflier's Society - ECPv6.15.20//NONSGML v1.0//EN
CALSCALE:GREGORIAN
METHOD:PUBLISH
X-ORIGINAL-URL:https://hoosierkite.org
X-WR-CALDESC:Events for Hoosier Kiteflier's Society
REFRESH-INTERVAL;VALUE=DURATION:PT1H
X-Robots-Tag:noindex
X-PUBLISHED-TTL:PT1H
BEGIN:VTIMEZONE
TZID:America/Indiana/Indianapolis
BEGIN:DAYLIGHT
TZOFFSETFROM:-0500
TZOFFSETTO:-0400
TZNAME:EDT
DTSTART:20230312T070000
END:DAYLIGHT
BEGIN:STANDARD
TZOFFSETFROM:-0400
TZOFFSETTO:-0500
TZNAME:EST
DTSTART:20231105T060000
END:STANDARD
BEGIN:DAYLIGHT
TZOFFSETFROM:-0500
TZOFFSETTO:-0400
TZNAME:EDT
DTSTART:20240310T070000
END:DAYLIGHT
BEGIN:STANDARD
TZOFFSETFROM:-0400
TZOFFSETTO:-0500
TZNAME:EST
DTSTART:20241103T060000
END:STANDARD
BEGIN:DAYLIGHT
TZOFFSETFROM:-0500
TZOFFSETTO:-0400
TZNAME:EDT
DTSTART:20250309T070000
END:DAYLIGHT
BEGIN:STANDARD
TZOFFSETFROM:-0400
TZOFFSETTO:-0500
TZNAME:EST
DTSTART:20251102T060000
END:STANDARD
END:VTIMEZONE
BEGIN:VEVENT
DTSTART;TZID=America/Indiana/Indianapolis:20240608T110000
DTEND;TZID=America/Indiana/Indianapolis:20240608T160000
DTSTAMP:20260424T221104
CREATED:20230312T223532Z
LAST-MODIFIED:20240203T022914Z
UID:18-1717844400-1717862400@hoosierkite.org
SUMMARY:High Sky Kite-Flying Workshop - Kokomo
DESCRIPTION:Kite-building workshop and guided kite flying instructions\, hosted by the City of Kokomo Parks and Recreation Department. Kites are free while supplies last\, but you can also bring your own kite. The Hoosier Kitefliers Society is providing the kite kits but this is not a sponsored HKS event.
URL:https://hoosierkite.org/event/high-sky-kite-flying-workshop/
LOCATION:Jackson Morrow Park\, 4200 S Park Rd\, Kokomo\, IN\, 46902\, United States
CATEGORIES:Official HKS Events
ORGANIZER;CN="Kokomo Parks & Recreation Dept.":MAILTO:park@cityofkokomo.org
END:VEVENT
END:VCALENDAR