BEGIN:VCALENDAR
VERSION:2.0
PRODID:-//Hoosier Kiteflier's Society - ECPv6.15.20//NONSGML v1.0//EN
CALSCALE:GREGORIAN
METHOD:PUBLISH
X-WR-CALNAME:Hoosier Kiteflier's Society
X-ORIGINAL-URL:https://hoosierkite.org
X-WR-CALDESC:Events for Hoosier Kiteflier's Society
REFRESH-INTERVAL;VALUE=DURATION:PT1H
X-Robots-Tag:noindex
X-PUBLISHED-TTL:PT1H
BEGIN:VTIMEZONE
TZID:America/Indiana/Indianapolis
BEGIN:DAYLIGHT
TZOFFSETFROM:-0500
TZOFFSETTO:-0400
TZNAME:EDT
DTSTART:20230312T070000
END:DAYLIGHT
BEGIN:STANDARD
TZOFFSETFROM:-0400
TZOFFSETTO:-0500
TZNAME:EST
DTSTART:20231105T060000
END:STANDARD
BEGIN:DAYLIGHT
TZOFFSETFROM:-0500
TZOFFSETTO:-0400
TZNAME:EDT
DTSTART:20240310T070000
END:DAYLIGHT
BEGIN:STANDARD
TZOFFSETFROM:-0400
TZOFFSETTO:-0500
TZNAME:EST
DTSTART:20241103T060000
END:STANDARD
BEGIN:DAYLIGHT
TZOFFSETFROM:-0500
TZOFFSETTO:-0400
TZNAME:EDT
DTSTART:20250309T070000
END:DAYLIGHT
BEGIN:STANDARD
TZOFFSETFROM:-0400
TZOFFSETTO:-0500
TZNAME:EST
DTSTART:20251102T060000
END:STANDARD
END:VTIMEZONE
BEGIN:VEVENT
DTSTART;TZID=America/Indiana/Indianapolis:20240511T100000
DTEND;TZID=America/Indiana/Indianapolis:20240511T170000
DTSTAMP:20260424T233739
CREATED:20230312T231352Z
LAST-MODIFIED:20240223T043958Z
UID:36-1715421600-1715446800@hoosierkite.org
SUMMARY:Ansel Toney & Friends Memorial Kite Fly - Muncie
DESCRIPTION:Join HKS members for a fun fly at the sprawling grounds of the AMA in Muncie. \nMember Mike Bragg plans to grill hotdogs for kite flyers at lunch time. Bring anything else you want to eat or drink. \nMembers are invited to stay for a club meeting and meal at the conclusion of the fly.
URL:https://hoosierkite.org/event/ansel-toney-friends-memorial-kite-fly-auction/
LOCATION:Academy of Model Aeronautics\, 5161 E. Memorial Dr.\, Muncie\, IN\, 47302\, United States
CATEGORIES:Official HKS Events
END:VEVENT
END:VCALENDAR