BEGIN:VCALENDAR
VERSION:2.0
PRODID:-//Hoosier Kiteflier's Society - ECPv6.15.20//NONSGML v1.0//EN
CALSCALE:GREGORIAN
METHOD:PUBLISH
X-WR-CALNAME:Hoosier Kiteflier's Society
X-ORIGINAL-URL:https://hoosierkite.org
X-WR-CALDESC:Events for Hoosier Kiteflier's Society
REFRESH-INTERVAL;VALUE=DURATION:PT1H
X-Robots-Tag:noindex
X-PUBLISHED-TTL:PT1H
BEGIN:VTIMEZONE
TZID:America/Halifax
BEGIN:DAYLIGHT
TZOFFSETFROM:-0400
TZOFFSETTO:-0300
TZNAME:ADT
DTSTART:20250309T060000
END:DAYLIGHT
BEGIN:STANDARD
TZOFFSETFROM:-0300
TZOFFSETTO:-0400
TZNAME:AST
DTSTART:20251102T050000
END:STANDARD
BEGIN:DAYLIGHT
TZOFFSETFROM:-0400
TZOFFSETTO:-0300
TZNAME:ADT
DTSTART:20260308T060000
END:DAYLIGHT
BEGIN:STANDARD
TZOFFSETFROM:-0300
TZOFFSETTO:-0400
TZNAME:AST
DTSTART:20261101T050000
END:STANDARD
BEGIN:DAYLIGHT
TZOFFSETFROM:-0400
TZOFFSETTO:-0300
TZNAME:ADT
DTSTART:20270314T060000
END:DAYLIGHT
BEGIN:STANDARD
TZOFFSETFROM:-0300
TZOFFSETTO:-0400
TZNAME:AST
DTSTART:20271107T050000
END:STANDARD
END:VTIMEZONE
BEGIN:VEVENT
DTSTART;TZID=America/Halifax:20260919T100000
DTEND;TZID=America/Halifax:20260919T160000
DTSTAMP:20260424T000620
CREATED:20260112T020030Z
LAST-MODIFIED:20260315T202536Z
UID:281-1789812000-1789833600@hoosierkite.org
SUMMARY:Merritt Beck Memorial Kite Fly - Muncie
DESCRIPTION:Come celebrate the life and kite making skills of Indiana’s Merritt Beck at one of the best kite-flying fields in the state. \nWe will auction some multicolor ribbon and tube tails made by Merritt Beck. Payment will be by cash or check only! \nWe will be at Academy of Model Aeronautics Flying Site 5 in the northern half of the property\, where we held the Ansel Toney fly in May. See the map below. \n \n  \nAfter the fly\, members whose dues are current will be treated to an off-site meal.
URL:https://hoosierkite.org/event/merritt-beck-memorial-kite-fly-muncie-2/
LOCATION:Academy of Model Aeronautics\, 5161 E. Memorial Dr.\, Muncie\, IN\, 47302\, United States
END:VEVENT
BEGIN:VEVENT
DTSTART;TZID=America/Halifax:20261011T100000
DTEND;TZID=America/Halifax:20261011T160000
DTSTAMP:20260424T000620
CREATED:20251023T214616Z
LAST-MODIFIED:20251023T214616Z
UID:276-1791712800-1791734400@hoosierkite.org
SUMMARY:One Sky\, One World Kite Fly – Fort Wayne
DESCRIPTION:Our annual kite fly for world peace at Praise Park\, thanks to St. Joe United Methodist Church. HKS members from around the region will gather to fly a wide variety of kites. Others are welcome to bring their own kites to fly\, with expert assistance from HKS members.
URL:https://hoosierkite.org/event/one-sky-one-world-kite-fly-fort-wayne-2/
LOCATION:Praise Park\, 5685 YMCA Park Drive West\, Fort Wayne\, IN\, 46835-2380\, United States
CATEGORIES:Official HKS Events
END:VEVENT
END:VCALENDAR