BEGIN:VCALENDAR
VERSION:2.0
PRODID:-//Hoosier Kiteflier's Society - ECPv6.15.20//NONSGML v1.0//EN
CALSCALE:GREGORIAN
METHOD:PUBLISH
X-ORIGINAL-URL:https://hoosierkite.org
X-WR-CALDESC:Events for Hoosier Kiteflier's Society
REFRESH-INTERVAL;VALUE=DURATION:PT1H
X-Robots-Tag:noindex
X-PUBLISHED-TTL:PT1H
BEGIN:VTIMEZONE
TZID:America/Indiana/Indianapolis
BEGIN:DAYLIGHT
TZOFFSETFROM:-0500
TZOFFSETTO:-0400
TZNAME:EDT
DTSTART:20250309T070000
END:DAYLIGHT
BEGIN:STANDARD
TZOFFSETFROM:-0400
TZOFFSETTO:-0500
TZNAME:EST
DTSTART:20251102T060000
END:STANDARD
BEGIN:DAYLIGHT
TZOFFSETFROM:-0500
TZOFFSETTO:-0400
TZNAME:EDT
DTSTART:20260308T070000
END:DAYLIGHT
BEGIN:STANDARD
TZOFFSETFROM:-0400
TZOFFSETTO:-0500
TZNAME:EST
DTSTART:20261101T060000
END:STANDARD
BEGIN:DAYLIGHT
TZOFFSETFROM:-0500
TZOFFSETTO:-0400
TZNAME:EDT
DTSTART:20270314T070000
END:DAYLIGHT
BEGIN:STANDARD
TZOFFSETFROM:-0400
TZOFFSETTO:-0500
TZNAME:EST
DTSTART:20271107T060000
END:STANDARD
END:VTIMEZONE
BEGIN:VEVENT
DTSTART;TZID=America/Indiana/Indianapolis:20260614T120000
DTEND;TZID=America/Indiana/Indianapolis:20260614T160000
DTSTAMP:20260423T205631
CREATED:20250225T193903Z
LAST-MODIFIED:20260315T222006Z
UID:258-1781438400-1781452800@hoosierkite.org
SUMMARY:St. Andrew UMC W. Lafayette Kite-Building Workshop & Fun Fly
DESCRIPTION:St. Andrew United Methodist Church will host a kite-building workshop for children and a fun fly for everyone on their grounds. HKS volunteers will lead the kite-building workshop and HKS members plan to fly their own\, unique kites.
URL:https://hoosierkite.org/event/st-andrew-umc-w-lafayette-kite-building-workshop-fun-fly/
LOCATION:St. Andrew United Mehodist Chuch\, W. Lafayette\, 4703 N 50 W\, West Lafayette\, IN\, 47906\, United States
CATEGORIES:Official HKS Events
ORGANIZER;CN="St. Andrew United Methodist Church%2C W. Lafayette":MAILTO:tammy@andrew-umc.org
END:VEVENT
END:VCALENDAR