BEGIN:VCALENDAR
VERSION:2.0
PRODID:-//Hoosier Kiteflier's Society - ECPv6.15.20//NONSGML v1.0//EN
CALSCALE:GREGORIAN
METHOD:PUBLISH
X-ORIGINAL-URL:https://hoosierkite.org
X-WR-CALDESC:Events for Hoosier Kiteflier's Society
REFRESH-INTERVAL;VALUE=DURATION:PT1H
X-Robots-Tag:noindex
X-PUBLISHED-TTL:PT1H
BEGIN:VTIMEZONE
TZID:America/Indiana/Indianapolis
BEGIN:DAYLIGHT
TZOFFSETFROM:-0500
TZOFFSETTO:-0400
TZNAME:EDT
DTSTART:20250309T070000
END:DAYLIGHT
BEGIN:STANDARD
TZOFFSETFROM:-0400
TZOFFSETTO:-0500
TZNAME:EST
DTSTART:20251102T060000
END:STANDARD
BEGIN:DAYLIGHT
TZOFFSETFROM:-0500
TZOFFSETTO:-0400
TZNAME:EDT
DTSTART:20260308T070000
END:DAYLIGHT
BEGIN:STANDARD
TZOFFSETFROM:-0400
TZOFFSETTO:-0500
TZNAME:EST
DTSTART:20261101T060000
END:STANDARD
BEGIN:DAYLIGHT
TZOFFSETFROM:-0500
TZOFFSETTO:-0400
TZNAME:EDT
DTSTART:20270314T070000
END:DAYLIGHT
BEGIN:STANDARD
TZOFFSETFROM:-0400
TZOFFSETTO:-0500
TZNAME:EST
DTSTART:20271107T060000
END:STANDARD
END:VTIMEZONE
BEGIN:VEVENT
DTSTART;TZID=America/Indiana/Indianapolis:20260425T100000
DTEND;TZID=America/Indiana/Indianapolis:20260425T100000
DTSTAMP:20260423T180819
CREATED:20250213T231129Z
LAST-MODIFIED:20260315T202656Z
UID:253-1777111200-1777111200@hoosierkite.org
SUMMARY:Coxhall Gardens "Kite Festival"
DESCRIPTION:  \n \nJoin the Coxhall Guild and the Hoosier Kitefliers Society for a kite festival and workshop. Whether you build a kite from scratch or bring your own\, every age from toddler to grandparent\, can share the joy of flying a kite! Colorful kites of all sizes and shapes flying high over the grounds of Coxhall Gardens will serve as a sure sign of spring. Working with members of the Hoosier Kitefliers Society\, guild volunteers will help guests build a simple sled kite.\nChildren must be accompanied by an adult. Kites are free while supplies last. We will also have concessions and vendor booths with items available for purchase. HKS members from around the region will also fly a wide variety of kites in a professional kite flying demonstration.\nSee the Coxhall Guild’s web page about the event: https://coxhallguild.com/kite-festival .
URL:https://hoosierkite.org/event/coxhall-gardens-kite-festival/
LOCATION:Coxhall Gardens\, 11677 Towne Rd.\, Carmel\, IN\, 46032\, United States
CATEGORIES:Official HKS Events
END:VEVENT
END:VCALENDAR