BEGIN:VCALENDAR
VERSION:2.0
PRODID:-//Hoosier Kiteflier's Society - ECPv6.15.20//NONSGML v1.0//EN
CALSCALE:GREGORIAN
METHOD:PUBLISH
X-ORIGINAL-URL:https://hoosierkite.org
X-WR-CALDESC:Events for Hoosier Kiteflier's Society
REFRESH-INTERVAL;VALUE=DURATION:PT1H
X-Robots-Tag:noindex
X-PUBLISHED-TTL:PT1H
BEGIN:VTIMEZONE
TZID:UTC
BEGIN:STANDARD
TZOFFSETFROM:+0000
TZOFFSETTO:+0000
TZNAME:UTC
DTSTART:20250101T000000
END:STANDARD
END:VTIMEZONE
BEGIN:VEVENT
DTSTART;TZID=UTC:20260419T140000
DTEND;TZID=UTC:20260419T160000
DTSTAMP:20260423T164512
CREATED:20260315T200952Z
LAST-MODIFIED:20260315T200952Z
UID:288-1776607200-1776614400@hoosierkite.org
SUMMARY:National Let's Fly a Kite Day\, Brownsburg
DESCRIPTION:The Hoosier Kitefliers Society will support a kite-flying event hosted by the town of Brownsburg\, Indiana at Williams Park. Bring your own kite or make one with the town’s kite building supplies. Help us fill the skies with all the different colors and types of kites. Come and enjoy the beautiful sight of many different kites in the air. See the town’s web page about the event. \n 
URL:https://hoosierkite.org/event/national-lets-fly-a-kite-day-brownsburg/
LOCATION:Williams Park\, 940 S Locust Ln\, Brownsburg\, IN\, 940 S Locust Ln\, Brownsburg\, IN\, 46112\, United States
END:VEVENT
END:VCALENDAR