BEGIN:VCALENDAR
VERSION:2.0
PRODID:-//Hoosier Kiteflier's Society - ECPv6.15.20//NONSGML v1.0//EN
CALSCALE:GREGORIAN
METHOD:PUBLISH
X-WR-CALNAME:Hoosier Kiteflier's Society
X-ORIGINAL-URL:https://hoosierkite.org
X-WR-CALDESC:Events for Hoosier Kiteflier's Society
REFRESH-INTERVAL;VALUE=DURATION:PT1H
X-Robots-Tag:noindex
X-PUBLISHED-TTL:PT1H
BEGIN:VTIMEZONE
TZID:UTC
BEGIN:STANDARD
TZOFFSETFROM:+0000
TZOFFSETTO:+0000
TZNAME:UTC
DTSTART:20250101T000000
END:STANDARD
END:VTIMEZONE
BEGIN:VEVENT
DTSTART;TZID=UTC:20260411T120000
DTEND;TZID=UTC:20260411T133000
DTSTAMP:20260423T163924
CREATED:20260315T201730Z
LAST-MODIFIED:20260315T201730Z
UID:293-1775908800-1775914200@hoosierkite.org
SUMMARY:Kokomo-Howard County Public Library "Let's Fly a Kite!"
DESCRIPTION:The Hoosier Kitefliers Socity will support a National Kite Month event hosted by the Kokomo-Howard County Public Library. The library will provide kites to decorate (while they last) and encouarges people to bring their own kites\, as well. See the library’s web page about this event at https://khcpl.libnet.info/event/15703634.
URL:https://hoosierkite.org/event/kokomo-howard-county-public-library-lets-fly-a-kite/
LOCATION:Jeff Stout Community Center\, 650 N West St.\, Russiaville\, IN\, 46979\, United States
END:VEVENT
END:VCALENDAR