BEGIN:VCALENDAR
VERSION:2.0
PRODID:-//Hoosier Kiteflier's Society - ECPv6.15.20//NONSGML v1.0//EN
CALSCALE:GREGORIAN
METHOD:PUBLISH
X-WR-CALNAME:Hoosier Kiteflier's Society
X-ORIGINAL-URL:https://hoosierkite.org
X-WR-CALDESC:Events for Hoosier Kiteflier's Society
REFRESH-INTERVAL;VALUE=DURATION:PT1H
X-Robots-Tag:noindex
X-PUBLISHED-TTL:PT1H
BEGIN:VTIMEZONE
TZID:America/Indiana/Indianapolis
BEGIN:DAYLIGHT
TZOFFSETFROM:-0500
TZOFFSETTO:-0400
TZNAME:EDT
DTSTART:20220313T070000
END:DAYLIGHT
BEGIN:STANDARD
TZOFFSETFROM:-0400
TZOFFSETTO:-0500
TZNAME:EST
DTSTART:20221106T060000
END:STANDARD
BEGIN:DAYLIGHT
TZOFFSETFROM:-0500
TZOFFSETTO:-0400
TZNAME:EDT
DTSTART:20230312T070000
END:DAYLIGHT
BEGIN:STANDARD
TZOFFSETFROM:-0400
TZOFFSETTO:-0500
TZNAME:EST
DTSTART:20231105T060000
END:STANDARD
BEGIN:DAYLIGHT
TZOFFSETFROM:-0500
TZOFFSETTO:-0400
TZNAME:EDT
DTSTART:20240310T070000
END:DAYLIGHT
BEGIN:STANDARD
TZOFFSETFROM:-0400
TZOFFSETTO:-0500
TZNAME:EST
DTSTART:20241103T060000
END:STANDARD
END:VTIMEZONE
BEGIN:VEVENT
DTSTART;TZID=America/Indiana/Indianapolis:20230430T110000
DTEND;TZID=America/Indiana/Indianapolis:20230430T140000
DTSTAMP:20260425T214644
CREATED:20230314T182805Z
LAST-MODIFIED:20230315T030554Z
UID:68-1682852400-1682863200@hoosierkite.org
SUMMARY:Let's Go Fly a Kite! - Indianapolis
DESCRIPTION:We have received an invitation from White River State Park in downtown Indianapolis to participate in a kite flying community event that the park plans on Sunday\, April 30 from 11 a.m. to 2 p.m.\nThe park’s community outreach and events coordinator\, Cara Walsh\, wrote that the park would love to have HKS members attend.\nThe event takes place in an area of the park called\, “Celebration Plaza\,” which is circled in red on the map below. Cara said that area almost always has wind because nearby buildings create a bit of a wind tunnel effect.\nIf you need additional information\, please contact Cara at CWalsh@wrsp.IN.gov or 317-452-9210.
URL:https://hoosierkite.org/event/lets-go-fly-a-kite-indianapolis/
LOCATION:White River State Park\, 801 W. Washington St.\, Indianapolis\, IN\, 46204\, United States
CATEGORIES:Courtesy Listing
END:VEVENT
END:VCALENDAR